BEGIN:VCALENDAR
VERSION:2.0
PRODID:-//JAX Fray //NONSGML Events //EN
CALSCALE:GREGORIAN
X-WR-CALNAME:JAX Fray
BEGIN:VEVENT
CREATED:20220908T170236Z
UID:7169
DTEND;VALUE=DATE:20260421T132947Z
DTSTART;VALUE=DATE:20260421T132947Z
DTSTAMP:20260421T172947Z
LOCATION:
DESCRIPTION:
SUMMARY:Florida Fin Fest
ORGANIZER:
URL;VALUE=URI:https://www.jaxfray.com/event/florida-fin-fest
TRANSP:OPAQUE
BEGIN:VALARM
ACTION:DISPLAY
TRIGGER;VALUE=DATE-TIME:20260421T132947Z
DESCRIPTION:Reminder for Florida Fin Fest
END:VALARM
END:VEVENT
END:VCALENDAR