BEGIN:VCALENDAR
VERSION:2.0
PRODID:-//JAX Fray //NONSGML Events //EN
CALSCALE:GREGORIAN
X-WR-CALNAME:JAX Fray
BEGIN:VEVENT
CREATED:20220908T165934Z
UID:7165
DTEND;VALUE=DATE:20260421T132937Z
DTSTART;VALUE=DATE:20260421T132937Z
DTSTAMP:20260421T172937Z
LOCATION:
DESCRIPTION:
SUMMARY:Jazz At The Ritz w/ Noel Freidline
ORGANIZER:
URL;VALUE=URI:https://www.jaxfray.com/event/jazz-at-the-ritz-w-noel-freidline
TRANSP:OPAQUE
BEGIN:VALARM
ACTION:DISPLAY
TRIGGER;VALUE=DATE-TIME:20260421T132937Z
DESCRIPTION:Reminder for Jazz At The Ritz w/ Noel Freidline
END:VALARM
END:VEVENT
END:VCALENDAR