BEGIN:VCALENDAR
VERSION:2.0
PRODID:-//JAX Fray //NONSGML Events //EN
CALSCALE:GREGORIAN
X-WR-CALNAME:JAX Fray
BEGIN:VEVENT
CREATED:20220825T175236Z
UID:7127
DTEND;VALUE=DATE:20260421T133017Z
DTSTART;VALUE=DATE:20260421T133017Z
DTSTAMP:20260421T173017Z
LOCATION:
DESCRIPTION:
SUMMARY:Jim Gaffigan: The Fun Tour
ORGANIZER:
URL;VALUE=URI:https://www.jaxfray.com/event/jim-gaffigan-the-fun-tour
TRANSP:OPAQUE
BEGIN:VALARM
ACTION:DISPLAY
TRIGGER;VALUE=DATE-TIME:20260421T133017Z
DESCRIPTION:Reminder for Jim Gaffigan: The Fun Tour
END:VALARM
END:VEVENT
END:VCALENDAR