BEGIN:VCALENDAR
VERSION:2.0
PRODID:-//JAX Fray //NONSGML Events //EN
CALSCALE:GREGORIAN
X-WR-CALNAME:JAX Fray
BEGIN:VEVENT
CREATED:20220825T173858Z
UID:7122
DTEND;VALUE=DATE:20260421T132947Z
DTSTART;VALUE=DATE:20260421T132947Z
DTSTAMP:20260421T172947Z
LOCATION:
DESCRIPTION:
SUMMARY:Downtown Jacksonville Art Walk
ORGANIZER:
URL;VALUE=URI:https://www.jaxfray.com/event/downtown-jacksonville-art-walk
TRANSP:OPAQUE
BEGIN:VALARM
ACTION:DISPLAY
TRIGGER;VALUE=DATE-TIME:20260421T132947Z
DESCRIPTION:Reminder for Downtown Jacksonville Art Walk
END:VALARM
END:VEVENT
END:VCALENDAR