BEGIN:VCALENDAR
VERSION:2.0
PRODID:-//JAX Fray //NONSGML Events //EN
CALSCALE:GREGORIAN
X-WR-CALNAME:JAX Fray
BEGIN:VEVENT
CREATED:20220825T173648Z
UID:7120
DTEND;VALUE=DATE:20260421T133017Z
DTSTART;VALUE=DATE:20260421T133017Z
DTSTAMP:20260421T173017Z
LOCATION:
DESCRIPTION:
SUMMARY:Jumbo Shrimp vs. Iowa Cubs
ORGANIZER:
URL;VALUE=URI:https://www.jaxfray.com/event/jumbo-shrimp-vs-iowa-cubs
TRANSP:OPAQUE
BEGIN:VALARM
ACTION:DISPLAY
TRIGGER;VALUE=DATE-TIME:20260421T133017Z
DESCRIPTION:Reminder for Jumbo Shrimp vs. Iowa Cubs
END:VALARM
END:VEVENT
END:VCALENDAR