BEGIN:VCALENDAR
VERSION:2.0
PRODID:-//JAX Fray //NONSGML Events //EN
CALSCALE:GREGORIAN
X-WR-CALNAME:JAX Fray
BEGIN:VEVENT
CREATED:20220825T173452Z
UID:7118
DTEND;VALUE=DATE:20260421T133126Z
DTSTART;VALUE=DATE:20260421T133126Z
DTSTAMP:20260421T173126Z
LOCATION:
DESCRIPTION:
SUMMARY:Open Mix Night
ORGANIZER:
URL;VALUE=URI:https://www.jaxfray.com/event/open-mix-night
TRANSP:OPAQUE
BEGIN:VALARM
ACTION:DISPLAY
TRIGGER;VALUE=DATE-TIME:20260421T133126Z
DESCRIPTION:Reminder for Open Mix Night
END:VALARM
END:VEVENT
END:VCALENDAR