BEGIN:VCALENDAR
VERSION:2.0
PRODID:-//JAX Fray //NONSGML Events //EN
CALSCALE:GREGORIAN
X-WR-CALNAME:JAX Fray
BEGIN:VEVENT
CREATED:20220825T173240Z
UID:7116
DTEND;VALUE=DATE:20260421T132020Z
DTSTART;VALUE=DATE:20260421T132020Z
DTSTAMP:20260421T172020Z
LOCATION:
DESCRIPTION:
SUMMARY:OneRepublic
ORGANIZER:
URL;VALUE=URI:https://www.jaxfray.com/event/onerepublic
TRANSP:OPAQUE
BEGIN:VALARM
ACTION:DISPLAY
TRIGGER;VALUE=DATE-TIME:20260421T132020Z
DESCRIPTION:Reminder for OneRepublic
END:VALARM
END:VEVENT
END:VCALENDAR