BEGIN:VCALENDAR
VERSION:2.0
PRODID:-//JAX Fray //NONSGML Events //EN
CALSCALE:GREGORIAN
X-WR-CALNAME:JAX Fray
BEGIN:VEVENT
CREATED:20220825T173115Z
UID:7113
DTEND;VALUE=DATE:20260421T145324Z
DTSTART;VALUE=DATE:20260421T145324Z
DTSTAMP:20260421T185324Z
LOCATION:
DESCRIPTION:
SUMMARY:Rod Stewart
ORGANIZER:
URL;VALUE=URI:https://www.jaxfray.com/event/rod-stewart
TRANSP:OPAQUE
BEGIN:VALARM
ACTION:DISPLAY
TRIGGER;VALUE=DATE-TIME:20260421T145324Z
DESCRIPTION:Reminder for Rod Stewart
END:VALARM
END:VEVENT
END:VCALENDAR