BEGIN:VCALENDAR
VERSION:2.0
PRODID:-//JAX Fray //NONSGML Events //EN
CALSCALE:GREGORIAN
X-WR-CALNAME:JAX Fray
BEGIN:VEVENT
CREATED:20220825T172935Z
UID:7111
DTEND;VALUE=DATE:20260421T152246Z
DTSTART;VALUE=DATE:20260421T152246Z
DTSTAMP:20260421T192246Z
LOCATION:
DESCRIPTION:
SUMMARY:Speaker Series: Box Broken Open: The Architecture of Ted Pappas
ORGANIZER:
URL;VALUE=URI:https://www.jaxfray.com/event/speaker-series-box-broken-open-the-architecture-of-ted-pappas
TRANSP:OPAQUE
BEGIN:VALARM
ACTION:DISPLAY
TRIGGER;VALUE=DATE-TIME:20260421T152246Z
DESCRIPTION:Reminder for Speaker Series: Box Broken Open: The Architecture of Ted Pappas
END:VALARM
END:VEVENT
END:VCALENDAR