BEGIN:VCALENDAR
VERSION:2.0
PRODID:-//JAX Fray //NONSGML Events //EN
CALSCALE:GREGORIAN
X-WR-CALNAME:JAX Fray
BEGIN:VEVENT
CREATED:20220825T172738Z
UID:7109
DTEND;VALUE=DATE:20260421T145339Z
DTSTART;VALUE=DATE:20260421T145339Z
DTSTAMP:20260421T185339Z
LOCATION:
DESCRIPTION:
SUMMARY:Dessert Date Night
ORGANIZER:
URL;VALUE=URI:https://www.jaxfray.com/event/dessert-date-night
TRANSP:OPAQUE
BEGIN:VALARM
ACTION:DISPLAY
TRIGGER;VALUE=DATE-TIME:20260421T145339Z
DESCRIPTION:Reminder for Dessert Date Night
END:VALARM
END:VEVENT
END:VCALENDAR