BEGIN:VCALENDAR
VERSION:2.0
PRODID:-//JAX Fray //NONSGML Events //EN
CALSCALE:GREGORIAN
X-WR-CALNAME:JAX Fray
BEGIN:VEVENT
CREATED:20220817T165328Z
UID:7089
DTEND;VALUE=DATE:20260421T145411Z
DTSTART;VALUE=DATE:20260421T145411Z
DTSTAMP:20260421T185411Z
LOCATION:
DESCRIPTION:
SUMMARY:Sunset Garden Picnics
ORGANIZER:
URL;VALUE=URI:https://www.jaxfray.com/event/sunset-garden-picnics-12
TRANSP:OPAQUE
BEGIN:VALARM
ACTION:DISPLAY
TRIGGER;VALUE=DATE-TIME:20260421T145411Z
DESCRIPTION:Reminder for Sunset Garden Picnics
END:VALARM
END:VEVENT
END:VCALENDAR