BEGIN:VCALENDAR
VERSION:2.0
PRODID:-//JAX Fray //NONSGML Events //EN
CALSCALE:GREGORIAN
X-WR-CALNAME:JAX Fray
BEGIN:VEVENT
CREATED:20220817T165204Z
UID:7084
DTEND;VALUE=DATE:20260421T145325Z
DTSTART;VALUE=DATE:20260421T145325Z
DTSTAMP:20260421T185325Z
LOCATION:
DESCRIPTION:
SUMMARY:Sunset Garden Picnics
ORGANIZER:
URL;VALUE=URI:https://www.jaxfray.com/event/sunset-garden-picnics-7
TRANSP:OPAQUE
BEGIN:VALARM
ACTION:DISPLAY
TRIGGER;VALUE=DATE-TIME:20260421T145325Z
DESCRIPTION:Reminder for Sunset Garden Picnics
END:VALARM
END:VEVENT
END:VCALENDAR