BEGIN:VCALENDAR
VERSION:2.0
PRODID:-//JAX Fray //NONSGML Events //EN
CALSCALE:GREGORIAN
X-WR-CALNAME:JAX Fray
BEGIN:VEVENT
CREATED:20220817T165052Z
UID:7080
DTEND;VALUE=DATE:20260421T161118Z
DTSTART;VALUE=DATE:20260421T161118Z
DTSTAMP:20260421T201118Z
LOCATION:
DESCRIPTION:
SUMMARY:Sunset Garden Picnics
ORGANIZER:
URL;VALUE=URI:https://www.jaxfray.com/event/sunset-garden-picnics-3
TRANSP:OPAQUE
BEGIN:VALARM
ACTION:DISPLAY
TRIGGER;VALUE=DATE-TIME:20260421T161118Z
DESCRIPTION:Reminder for Sunset Garden Picnics
END:VALARM
END:VEVENT
END:VCALENDAR