BEGIN:VCALENDAR
VERSION:2.0
PRODID:-//JAX Fray //NONSGML Events //EN
CALSCALE:GREGORIAN
X-WR-CALNAME:JAX Fray
BEGIN:VEVENT
CREATED:20220817T164808Z
UID:7076
DTEND;VALUE=DATE:20260421T160829Z
DTSTART;VALUE=DATE:20260421T160829Z
DTSTAMP:20260421T200829Z
LOCATION:
DESCRIPTION:
SUMMARY:Bill Bellamy
ORGANIZER:
URL;VALUE=URI:https://www.jaxfray.com/event/bill-bellamy-3
TRANSP:OPAQUE
BEGIN:VALARM
ACTION:DISPLAY
TRIGGER;VALUE=DATE-TIME:20260421T160829Z
DESCRIPTION:Reminder for Bill Bellamy
END:VALARM
END:VEVENT
END:VCALENDAR