BEGIN:VCALENDAR
VERSION:2.0
PRODID:-//JAX Fray //NONSGML Events //EN
CALSCALE:GREGORIAN
X-WR-CALNAME:JAX Fray
BEGIN:VEVENT
CREATED:20220817T164724Z
UID:7073
DTEND;VALUE=DATE:20260421T160621Z
DTSTART;VALUE=DATE:20260421T160621Z
DTSTAMP:20260421T200621Z
LOCATION:
DESCRIPTION:
SUMMARY:Bill Bellamy
ORGANIZER:
URL;VALUE=URI:https://www.jaxfray.com/event/bill-bellamy
TRANSP:OPAQUE
BEGIN:VALARM
ACTION:DISPLAY
TRIGGER;VALUE=DATE-TIME:20260421T160621Z
DESCRIPTION:Reminder for Bill Bellamy
END:VALARM
END:VEVENT
END:VCALENDAR