BEGIN:VCALENDAR
VERSION:2.0
PRODID:-//JAX Fray //NONSGML Events //EN
CALSCALE:GREGORIAN
X-WR-CALNAME:JAX Fray
BEGIN:VEVENT
CREATED:20220817T164445Z
UID:7071
DTEND;VALUE=DATE:20260421T161117Z
DTSTART;VALUE=DATE:20260421T161117Z
DTSTAMP:20260421T201117Z
LOCATION:
DESCRIPTION:
SUMMARY:Gummy Making Class
ORGANIZER:
URL;VALUE=URI:https://www.jaxfray.com/event/gummy-making-class-3
TRANSP:OPAQUE
BEGIN:VALARM
ACTION:DISPLAY
TRIGGER;VALUE=DATE-TIME:20260421T161117Z
DESCRIPTION:Reminder for Gummy Making Class
END:VALARM
END:VEVENT
END:VCALENDAR