BEGIN:VCALENDAR
VERSION:2.0
PRODID:-//JAX Fray //NONSGML Events //EN
CALSCALE:GREGORIAN
X-WR-CALNAME:JAX Fray
BEGIN:VEVENT
CREATED:20220817T164232Z
UID:7068
DTEND;VALUE=DATE:20260421T175035Z
DTSTART;VALUE=DATE:20260421T175035Z
DTSTAMP:20260421T215035Z
LOCATION:
DESCRIPTION:
SUMMARY:Blues, Brews, &amp; BBQ
ORGANIZER:
URL;VALUE=URI:https://www.jaxfray.com/event/blues-brews-bbq
TRANSP:OPAQUE
BEGIN:VALARM
ACTION:DISPLAY
TRIGGER;VALUE=DATE-TIME:20260421T175035Z
DESCRIPTION:Reminder for Blues\, Brews\, &amp; BBQ
END:VALARM
END:VEVENT
END:VCALENDAR