BEGIN:VCALENDAR
VERSION:2.0
PRODID:-//JAX Fray //NONSGML Events //EN
CALSCALE:GREGORIAN
X-WR-CALNAME:JAX Fray
BEGIN:VEVENT
CREATED:20220817T163925Z
UID:7066
DTEND;VALUE=DATE:20260421T180114Z
DTSTART;VALUE=DATE:20260421T180114Z
DTSTAMP:20260421T220114Z
LOCATION:
DESCRIPTION:
SUMMARY:Jumbo Shrimp vs. Nashville Sounds
ORGANIZER:
URL;VALUE=URI:https://www.jaxfray.com/event/jumbo-shrimp-vs-nashville-sounds-2
TRANSP:OPAQUE
BEGIN:VALARM
ACTION:DISPLAY
TRIGGER;VALUE=DATE-TIME:20260421T180114Z
DESCRIPTION:Reminder for Jumbo Shrimp vs. Nashville Sounds
END:VALARM
END:VEVENT
END:VCALENDAR