BEGIN:VCALENDAR
VERSION:2.0
PRODID:-//JAX Fray //NONSGML Events //EN
CALSCALE:GREGORIAN
X-WR-CALNAME:JAX Fray
BEGIN:VEVENT
CREATED:20220808T185013Z
UID:7036
DTEND;VALUE=DATE:20260421T180925Z
DTSTART;VALUE=DATE:20260421T180925Z
DTSTAMP:20260421T220925Z
LOCATION:
DESCRIPTION:
SUMMARY:Rocky Blaze at Kingfish Grill on the Water
ORGANIZER:
URL;VALUE=URI:https://www.jaxfray.com/event/rocky-blaze-at-kingfish-grill-on-the-water
TRANSP:OPAQUE
BEGIN:VALARM
ACTION:DISPLAY
TRIGGER;VALUE=DATE-TIME:20260421T180925Z
DESCRIPTION:Reminder for Rocky Blaze at Kingfish Grill on the Water
END:VALARM
END:VEVENT
END:VCALENDAR