BEGIN:VCALENDAR
VERSION:2.0
PRODID:-//JAX Fray //NONSGML Events //EN
CALSCALE:GREGORIAN
X-WR-CALNAME:JAX Fray
BEGIN:VEVENT
CREATED:20220808T184815Z
UID:7033
DTEND;VALUE=DATE:20260421T174255Z
DTSTART;VALUE=DATE:20260421T174255Z
DTSTAMP:20260421T214255Z
LOCATION:
DESCRIPTION:
SUMMARY:Anchor Trolley Historic Tour
ORGANIZER:
URL;VALUE=URI:https://www.jaxfray.com/event/anchor-trolley-historic-tour
TRANSP:OPAQUE
BEGIN:VALARM
ACTION:DISPLAY
TRIGGER;VALUE=DATE-TIME:20260421T174255Z
DESCRIPTION:Reminder for Anchor Trolley Historic Tour
END:VALARM
END:VEVENT
END:VCALENDAR