BEGIN:VCALENDAR
VERSION:2.0
PRODID:-//JAX Fray //NONSGML Events //EN
CALSCALE:GREGORIAN
X-WR-CALNAME:JAX Fray
BEGIN:VEVENT
CREATED:20220808T184417Z
UID:7030
DTEND;VALUE=DATE:20260421T174641Z
DTSTART;VALUE=DATE:20260421T174641Z
DTSTAMP:20260421T214641Z
LOCATION:
DESCRIPTION:
SUMMARY:Wednesday Pier Market
ORGANIZER:
URL;VALUE=URI:https://www.jaxfray.com/event/wednesday-pier-market
TRANSP:OPAQUE
BEGIN:VALARM
ACTION:DISPLAY
TRIGGER;VALUE=DATE-TIME:20260421T174641Z
DESCRIPTION:Reminder for Wednesday Pier Market
END:VALARM
END:VEVENT
END:VCALENDAR