BEGIN:VCALENDAR
VERSION:2.0
PRODID:-//JAX Fray //NONSGML Events //EN
CALSCALE:GREGORIAN
X-WR-CALNAME:JAX Fray
BEGIN:VEVENT
CREATED:20220808T183903Z
UID:7026
DTEND;VALUE=DATE:20260421T192636Z
DTSTART;VALUE=DATE:20260421T192636Z
DTSTAMP:20260421T232636Z
LOCATION:
DESCRIPTION:
SUMMARY:Chef Theatre at the Ritz-Carlton, Amelia Island
ORGANIZER:
URL;VALUE=URI:https://www.jaxfray.com/event/chef-theatre-at-the-ritz-carlton-amelia-island
TRANSP:OPAQUE
BEGIN:VALARM
ACTION:DISPLAY
TRIGGER;VALUE=DATE-TIME:20260421T192636Z
DESCRIPTION:Reminder for Chef Theatre at the Ritz-Carlton\, Amelia Island
END:VALARM
END:VEVENT
END:VCALENDAR