BEGIN:VCALENDAR
VERSION:2.0
PRODID:-//JAX Fray //NONSGML Events //EN
CALSCALE:GREGORIAN
X-WR-CALNAME:JAX Fray
BEGIN:VEVENT
CREATED:20220801T150100Z
UID:7010
DTEND;VALUE=DATE:20260421T192536Z
DTSTART;VALUE=DATE:20260421T192536Z
DTSTAMP:20260421T232536Z
LOCATION:
DESCRIPTION:
SUMMARY:Healosopher Fitness
ORGANIZER:
URL;VALUE=URI:https://www.jaxfray.com/event/healosopher-fitness-2
TRANSP:OPAQUE
BEGIN:VALARM
ACTION:DISPLAY
TRIGGER;VALUE=DATE-TIME:20260421T192536Z
DESCRIPTION:Reminder for Healosopher Fitness
END:VALARM
END:VEVENT
END:VCALENDAR