BEGIN:VCALENDAR
VERSION:2.0
PRODID:-//JAX Fray //NONSGML Events //EN
CALSCALE:GREGORIAN
X-WR-CALNAME:JAX Fray
BEGIN:VEVENT
CREATED:20220801T145835Z
UID:7004
DTEND;VALUE=DATE:20260421T194358Z
DTSTART;VALUE=DATE:20260421T194358Z
DTSTAMP:20260421T234358Z
LOCATION:
DESCRIPTION:
SUMMARY:MOCA Movie Night: Bamboozled (2000)
ORGANIZER:
URL;VALUE=URI:https://www.jaxfray.com/event/moca-movie-night-bamboozled-2000
TRANSP:OPAQUE
BEGIN:VALARM
ACTION:DISPLAY
TRIGGER;VALUE=DATE-TIME:20260421T194358Z
DESCRIPTION:Reminder for MOCA Movie Night: Bamboozled (2000)
END:VALARM
END:VEVENT
END:VCALENDAR