BEGIN:VCALENDAR
VERSION:2.0
PRODID:-//JAX Fray //NONSGML Events //EN
CALSCALE:GREGORIAN
X-WR-CALNAME:JAX Fray
BEGIN:VEVENT
CREATED:20220725T171414Z
UID:6983
DTEND;VALUE=DATE:20260421T194702Z
DTSTART;VALUE=DATE:20260421T194702Z
DTSTAMP:20260421T234702Z
LOCATION:
DESCRIPTION:
SUMMARY:Run This Town JACKSONVILLE (VR)
ORGANIZER:
URL;VALUE=URI:https://www.jaxfray.com/event/run-this-town-jacksonville-vr-2
TRANSP:OPAQUE
BEGIN:VALARM
ACTION:DISPLAY
TRIGGER;VALUE=DATE-TIME:20260421T194702Z
DESCRIPTION:Reminder for Run This Town JACKSONVILLE (VR)
END:VALARM
END:VEVENT
END:VCALENDAR