BEGIN:VCALENDAR
VERSION:2.0
PRODID:-//JAX Fray //NONSGML Events //EN
CALSCALE:GREGORIAN
X-WR-CALNAME:JAX Fray
BEGIN:VEVENT
CREATED:20220725T171349Z
UID:6981
DTEND;VALUE=DATE:20260421T192708Z
DTSTART;VALUE=DATE:20260421T192708Z
DTSTAMP:20260421T232708Z
LOCATION:
DESCRIPTION:
SUMMARY:Run This Town JACKSONVILLE (VR)
ORGANIZER:
URL;VALUE=URI:https://www.jaxfray.com/event/run-this-town-jacksonville-vr
TRANSP:OPAQUE
BEGIN:VALARM
ACTION:DISPLAY
TRIGGER;VALUE=DATE-TIME:20260421T192708Z
DESCRIPTION:Reminder for Run This Town JACKSONVILLE (VR)
END:VALARM
END:VEVENT
END:VCALENDAR