BEGIN:VCALENDAR
VERSION:2.0
PRODID:-//JAX Fray //NONSGML Events //EN
CALSCALE:GREGORIAN
X-WR-CALNAME:JAX Fray
BEGIN:VEVENT
CREATED:20220725T170854Z
UID:6979
DTEND;VALUE=DATE:20260421T192637Z
DTSTART;VALUE=DATE:20260421T192637Z
DTSTAMP:20260421T232637Z
LOCATION:
DESCRIPTION:
SUMMARY:Summer Social Pop Up
ORGANIZER:
URL;VALUE=URI:https://www.jaxfray.com/event/summer-social-pop-up
TRANSP:OPAQUE
BEGIN:VALARM
ACTION:DISPLAY
TRIGGER;VALUE=DATE-TIME:20260421T192637Z
DESCRIPTION:Reminder for Summer Social Pop Up
END:VALARM
END:VEVENT
END:VCALENDAR