BEGIN:VCALENDAR
VERSION:2.0
PRODID:-//JAX Fray //NONSGML Events //EN
CALSCALE:GREGORIAN
X-WR-CALNAME:JAX Fray
BEGIN:VEVENT
CREATED:20220725T170453Z
UID:6977
DTEND;VALUE=DATE:20260421T205236Z
DTSTART;VALUE=DATE:20260421T205236Z
DTSTAMP:20260422T005236Z
LOCATION:
DESCRIPTION:
SUMMARY:Expanding Your Horizons – STEM Workshop for Middle School Girls
ORGANIZER:
URL;VALUE=URI:https://www.jaxfray.com/event/expanding-your-horizons-stem-workshop-for-middle-school-girls
TRANSP:OPAQUE
BEGIN:VALARM
ACTION:DISPLAY
TRIGGER;VALUE=DATE-TIME:20260421T205236Z
DESCRIPTION:Reminder for Expanding Your Horizons – STEM Workshop for Middle School Girls
END:VALARM
END:VEVENT
END:VCALENDAR