BEGIN:VCALENDAR
VERSION:2.0
PRODID:-//JAX Fray //NONSGML Events //EN
CALSCALE:GREGORIAN
X-WR-CALNAME:JAX Fray
BEGIN:VEVENT
CREATED:20220725T170300Z
UID:6974
DTEND;VALUE=DATE:20260421T205342Z
DTSTART;VALUE=DATE:20260421T205342Z
DTSTAMP:20260422T005342Z
LOCATION:
DESCRIPTION:
SUMMARY:Free Online Art Class For Kids &amp; Teens – Jacksonville
ORGANIZER:
URL;VALUE=URI:https://www.jaxfray.com/event/free-online-art-class-for-kids-teens-jacksonville
TRANSP:OPAQUE
BEGIN:VALARM
ACTION:DISPLAY
TRIGGER;VALUE=DATE-TIME:20260421T205342Z
DESCRIPTION:Reminder for Free Online Art Class For Kids &amp; Teens – Jacksonville
END:VALARM
END:VEVENT
END:VCALENDAR