BEGIN:VCALENDAR
VERSION:2.0
PRODID:-//JAX Fray //NONSGML Events //EN
CALSCALE:GREGORIAN
X-WR-CALNAME:JAX Fray
BEGIN:VEVENT
CREATED:20220725T165627Z
UID:6967
DTEND;VALUE=DATE:20260421T205342Z
DTSTART;VALUE=DATE:20260421T205342Z
DTSTAMP:20260422T005342Z
LOCATION:
DESCRIPTION:
SUMMARY:Whitney Labs Traveling Marine Zoo
ORGANIZER:
URL;VALUE=URI:https://www.jaxfray.com/event/whitney-labs-traveling-marine-zoo
TRANSP:OPAQUE
BEGIN:VALARM
ACTION:DISPLAY
TRIGGER;VALUE=DATE-TIME:20260421T205342Z
DESCRIPTION:Reminder for Whitney Labs Traveling Marine Zoo
END:VALARM
END:VEVENT
END:VCALENDAR