BEGIN:VCALENDAR
VERSION:2.0
PRODID:-//JAX Fray //NONSGML Events //EN
CALSCALE:GREGORIAN
X-WR-CALNAME:JAX Fray
BEGIN:VEVENT
CREATED:20220725T165423Z
UID:6964
DTEND;VALUE=DATE:20260421T205256Z
DTSTART;VALUE=DATE:20260421T205256Z
DTSTAMP:20260422T005256Z
LOCATION:
DESCRIPTION:
SUMMARY:Hot Potato Comedy Tour
ORGANIZER:
URL;VALUE=URI:https://www.jaxfray.com/event/hot-potato-comedy-tour
TRANSP:OPAQUE
BEGIN:VALARM
ACTION:DISPLAY
TRIGGER;VALUE=DATE-TIME:20260421T205256Z
DESCRIPTION:Reminder for Hot Potato Comedy Tour
END:VALARM
END:VEVENT
END:VCALENDAR