BEGIN:VCALENDAR
VERSION:2.0
PRODID:-//JAX Fray //NONSGML Events //EN
CALSCALE:GREGORIAN
X-WR-CALNAME:JAX Fray
BEGIN:VEVENT
CREATED:20220718T163944Z
UID:6919
DTEND;VALUE=DATE:20260421T223620Z
DTSTART;VALUE=DATE:20260421T223620Z
DTSTAMP:20260422T023620Z
LOCATION:
DESCRIPTION:
SUMMARY:Karaoke Every Saturday Night!
ORGANIZER:
URL;VALUE=URI:https://www.jaxfray.com/event/karaoke-every-saturday-night
TRANSP:OPAQUE
BEGIN:VALARM
ACTION:DISPLAY
TRIGGER;VALUE=DATE-TIME:20260421T223620Z
DESCRIPTION:Reminder for Karaoke Every Saturday Night!
END:VALARM
END:VEVENT
END:VCALENDAR