BEGIN:VCALENDAR
VERSION:2.0
PRODID:-//JAX Fray //NONSGML Events //EN
CALSCALE:GREGORIAN
X-WR-CALNAME:JAX Fray
BEGIN:VEVENT
CREATED:20220718T163418Z
UID:6911
DTEND;VALUE=DATE:20260421T222438Z
DTSTART;VALUE=DATE:20260421T222438Z
DTSTAMP:20260422T022438Z
LOCATION:
DESCRIPTION:
SUMMARY:Brothers Brunch
ORGANIZER:
URL;VALUE=URI:https://www.jaxfray.com/event/brothers-brunch
TRANSP:OPAQUE
BEGIN:VALARM
ACTION:DISPLAY
TRIGGER;VALUE=DATE-TIME:20260421T222438Z
DESCRIPTION:Reminder for Brothers Brunch
END:VALARM
END:VEVENT
END:VCALENDAR