BEGIN:VCALENDAR
VERSION:2.0
PRODID:-//JAX Fray //NONSGML Events //EN
CALSCALE:GREGORIAN
X-WR-CALNAME:JAX Fray
BEGIN:VEVENT
CREATED:20220718T162757Z
UID:6904
DTEND;VALUE=DATE:20260422T000806Z
DTSTART;VALUE=DATE:20260422T000806Z
DTSTAMP:20260422T040806Z
LOCATION:
DESCRIPTION:
SUMMARY:The Magical Mystery Mic @ The Walrus
ORGANIZER:
URL;VALUE=URI:https://www.jaxfray.com/event/the-magical-mystery-mic-the-walrus-2
TRANSP:OPAQUE
BEGIN:VALARM
ACTION:DISPLAY
TRIGGER;VALUE=DATE-TIME:20260422T000806Z
DESCRIPTION:Reminder for The Magical Mystery Mic @ The Walrus
END:VALARM
END:VEVENT
END:VCALENDAR