BEGIN:VCALENDAR
VERSION:2.0
PRODID:-//JAX Fray //NONSGML Events //EN
CALSCALE:GREGORIAN
X-WR-CALNAME:JAX Fray
BEGIN:VEVENT
CREATED:20220718T162349Z
UID:6900
DTEND;VALUE=DATE:20260421T235934Z
DTSTART;VALUE=DATE:20260421T235934Z
DTSTAMP:20260422T035934Z
LOCATION:
DESCRIPTION:
SUMMARY:Social Sidebar
ORGANIZER:
URL;VALUE=URI:https://www.jaxfray.com/event/social-sidebar-5
TRANSP:OPAQUE
BEGIN:VALARM
ACTION:DISPLAY
TRIGGER;VALUE=DATE-TIME:20260421T235934Z
DESCRIPTION:Reminder for Social Sidebar
END:VALARM
END:VEVENT
END:VCALENDAR