BEGIN:VCALENDAR
VERSION:2.0
PRODID:-//JAX Fray //NONSGML Events //EN
CALSCALE:GREGORIAN
X-WR-CALNAME:JAX Fray
BEGIN:VEVENT
CREATED:20220718T162326Z
UID:6899
DTEND;VALUE=DATE:20260421T235714Z
DTSTART;VALUE=DATE:20260421T235714Z
DTSTAMP:20260422T035714Z
LOCATION:
DESCRIPTION:
SUMMARY:Social Sidebar
ORGANIZER:
URL;VALUE=URI:https://www.jaxfray.com/event/social-sidebar-4
TRANSP:OPAQUE
BEGIN:VALARM
ACTION:DISPLAY
TRIGGER;VALUE=DATE-TIME:20260421T235714Z
DESCRIPTION:Reminder for Social Sidebar
END:VALARM
END:VEVENT
END:VCALENDAR