BEGIN:VCALENDAR
VERSION:2.0
PRODID:-//JAX Fray //NONSGML Events //EN
CALSCALE:GREGORIAN
X-WR-CALNAME:JAX Fray
BEGIN:VEVENT
CREATED:20220718T162243Z
UID:6897
DTEND;VALUE=DATE:20260421T235218Z
DTSTART;VALUE=DATE:20260421T235218Z
DTSTAMP:20260422T035218Z
LOCATION:
DESCRIPTION:
SUMMARY:Social Sidebar
ORGANIZER:
URL;VALUE=URI:https://www.jaxfray.com/event/social-sidebar-2
TRANSP:OPAQUE
BEGIN:VALARM
ACTION:DISPLAY
TRIGGER;VALUE=DATE-TIME:20260421T235218Z
DESCRIPTION:Reminder for Social Sidebar
END:VALARM
END:VEVENT
END:VCALENDAR