BEGIN:VCALENDAR
VERSION:2.0
PRODID:-//JAX Fray //NONSGML Events //EN
CALSCALE:GREGORIAN
X-WR-CALNAME:JAX Fray
BEGIN:VEVENT
CREATED:20220718T162215Z
UID:6894
DTEND;VALUE=DATE:20260422T020032Z
DTSTART;VALUE=DATE:20260422T020032Z
DTSTAMP:20260422T060032Z
LOCATION:
DESCRIPTION:
SUMMARY:Social Sidebar
ORGANIZER:
URL;VALUE=URI:https://www.jaxfray.com/event/social-sidebar
TRANSP:OPAQUE
BEGIN:VALARM
ACTION:DISPLAY
TRIGGER;VALUE=DATE-TIME:20260422T020032Z
DESCRIPTION:Reminder for Social Sidebar
END:VALARM
END:VEVENT
END:VCALENDAR