BEGIN:VCALENDAR
VERSION:2.0
PRODID:-//JAX Fray //NONSGML Events //EN
CALSCALE:GREGORIAN
X-WR-CALNAME:JAX Fray
BEGIN:VEVENT
CREATED:20220718T161923Z
UID:6892
DTEND;VALUE=DATE:20260422T013732Z
DTSTART;VALUE=DATE:20260422T013732Z
DTSTAMP:20260422T053732Z
LOCATION:
DESCRIPTION:
SUMMARY:Family Space
ORGANIZER:
URL;VALUE=URI:https://www.jaxfray.com/event/family-space
TRANSP:OPAQUE
BEGIN:VALARM
ACTION:DISPLAY
TRIGGER;VALUE=DATE-TIME:20260422T013732Z
DESCRIPTION:Reminder for Family Space
END:VALARM
END:VEVENT
END:VCALENDAR