BEGIN:VCALENDAR
VERSION:2.0
PRODID:-//JAX Fray //NONSGML Events //EN
CALSCALE:GREGORIAN
X-WR-CALNAME:JAX Fray
BEGIN:VEVENT
CREATED:20220718T161536Z
UID:6890
DTEND;VALUE=DATE:20260422T012958Z
DTSTART;VALUE=DATE:20260422T012958Z
DTSTAMP:20260422T052958Z
LOCATION:
DESCRIPTION:
SUMMARY:Clara White Mission – Daily Feeding Volunteering
ORGANIZER:
URL;VALUE=URI:https://www.jaxfray.com/event/clara-white-mission-daily-feeding-volunteering-3
TRANSP:OPAQUE
BEGIN:VALARM
ACTION:DISPLAY
TRIGGER;VALUE=DATE-TIME:20260422T012958Z
DESCRIPTION:Reminder for Clara White Mission – Daily Feeding Volunteering
END:VALARM
END:VEVENT
END:VCALENDAR