BEGIN:VCALENDAR
VERSION:2.0
PRODID:-//JAX Fray //NONSGML Events //EN
CALSCALE:GREGORIAN
X-WR-CALNAME:JAX Fray
BEGIN:VEVENT
CREATED:20220712T034210Z
UID:6858
DTEND;VALUE=DATE:20260422T012214Z
DTSTART;VALUE=DATE:20260422T012214Z
DTSTAMP:20260422T052214Z
LOCATION:
DESCRIPTION:
SUMMARY:Summer Breeze Music Festival
ORGANIZER:
URL;VALUE=URI:https://www.jaxfray.com/event/summer-breeze-music-festival-2
TRANSP:OPAQUE
BEGIN:VALARM
ACTION:DISPLAY
TRIGGER;VALUE=DATE-TIME:20260422T012214Z
DESCRIPTION:Reminder for Summer Breeze Music Festival
END:VALARM
END:VEVENT
END:VCALENDAR