BEGIN:VCALENDAR
VERSION:2.0
PRODID:-//JAX Fray //NONSGML Events //EN
CALSCALE:GREGORIAN
X-WR-CALNAME:JAX Fray
BEGIN:VEVENT
CREATED:20220712T034008Z
UID:6855
DTEND;VALUE=DATE:20260422T012846Z
DTSTART;VALUE=DATE:20260422T012846Z
DTSTAMP:20260422T052846Z
LOCATION:
DESCRIPTION:
SUMMARY:Mary’s Late Saturday Night Revue
ORGANIZER:
URL;VALUE=URI:https://www.jaxfray.com/event/marys-late-saturday-night-revue-2
TRANSP:OPAQUE
BEGIN:VALARM
ACTION:DISPLAY
TRIGGER;VALUE=DATE-TIME:20260422T012846Z
DESCRIPTION:Reminder for Mary’s Late Saturday Night Revue
END:VALARM
END:VEVENT
END:VCALENDAR