BEGIN:VCALENDAR
VERSION:2.0
PRODID:-//JAX Fray //NONSGML Events //EN
CALSCALE:GREGORIAN
X-WR-CALNAME:JAX Fray
BEGIN:VEVENT
CREATED:20220712T033714Z
UID:6851
DTEND;VALUE=DATE:20260422T025015Z
DTSTART;VALUE=DATE:20260422T025015Z
DTSTAMP:20260422T065015Z
LOCATION:
DESCRIPTION:
SUMMARY:Fleet DJ’s Music Conference
ORGANIZER:
URL;VALUE=URI:https://www.jaxfray.com/event/fleet-djs-music-conference
TRANSP:OPAQUE
BEGIN:VALARM
ACTION:DISPLAY
TRIGGER;VALUE=DATE-TIME:20260422T025015Z
DESCRIPTION:Reminder for Fleet DJ’s Music Conference
END:VALARM
END:VEVENT
END:VCALENDAR