BEGIN:VCALENDAR
VERSION:2.0
PRODID:-//JAX Fray //NONSGML Events //EN
CALSCALE:GREGORIAN
X-WR-CALNAME:JAX Fray
BEGIN:VEVENT
CREATED:20220623T190906Z
UID:6809
DTEND;VALUE=DATE:20260422T031441Z
DTSTART;VALUE=DATE:20260422T031441Z
DTSTAMP:20260422T071441Z
LOCATION:
DESCRIPTION:
SUMMARY:First Fridays at Kingdom Plaza
ORGANIZER:
URL;VALUE=URI:https://www.jaxfray.com/event/first-fridays-at-kingdom-plaza-6
TRANSP:OPAQUE
BEGIN:VALARM
ACTION:DISPLAY
TRIGGER;VALUE=DATE-TIME:20260422T031441Z
DESCRIPTION:Reminder for First Fridays at Kingdom Plaza
END:VALARM
END:VEVENT
END:VCALENDAR