BEGIN:VCALENDAR
VERSION:2.0
PRODID:-//JAX Fray //NONSGML Events //EN
CALSCALE:GREGORIAN
X-WR-CALNAME:JAX Fray
BEGIN:VEVENT
CREATED:20220623T190847Z
UID:6808
DTEND;VALUE=DATE:20260422T025947Z
DTSTART;VALUE=DATE:20260422T025947Z
DTSTAMP:20260422T065947Z
LOCATION:
DESCRIPTION:
SUMMARY:First Fridays at Kingdom Plaza
ORGANIZER:
URL;VALUE=URI:https://www.jaxfray.com/event/first-fridays-at-kingdom-plaza-5
TRANSP:OPAQUE
BEGIN:VALARM
ACTION:DISPLAY
TRIGGER;VALUE=DATE-TIME:20260422T025947Z
DESCRIPTION:Reminder for First Fridays at Kingdom Plaza
END:VALARM
END:VEVENT
END:VCALENDAR