BEGIN:VCALENDAR
VERSION:2.0
PRODID:-//JAX Fray //NONSGML Events //EN
CALSCALE:GREGORIAN
X-WR-CALNAME:JAX Fray
BEGIN:VEVENT
CREATED:20220623T190530Z
UID:6801
DTEND;VALUE=DATE:20260422T024817Z
DTSTART;VALUE=DATE:20260422T024817Z
DTSTAMP:20260422T064817Z
LOCATION:
DESCRIPTION:
SUMMARY:Mixology Craft Cocktail Class by Mr. Barrtenderr
ORGANIZER:
URL;VALUE=URI:https://www.jaxfray.com/event/mixology-craft-cocktail-class-by-mr-barrtenderr
TRANSP:OPAQUE
BEGIN:VALARM
ACTION:DISPLAY
TRIGGER;VALUE=DATE-TIME:20260422T024817Z
DESCRIPTION:Reminder for Mixology Craft Cocktail Class by Mr. Barrtenderr
END:VALARM
END:VEVENT
END:VCALENDAR