BEGIN:VCALENDAR
VERSION:2.0
PRODID:-//JAX Fray //NONSGML Events //EN
CALSCALE:GREGORIAN
X-WR-CALNAME:JAX Fray
BEGIN:VEVENT
CREATED:20220623T190211Z
UID:6797
DTEND;VALUE=DATE:20260422T043553Z
DTSTART;VALUE=DATE:20260422T043553Z
DTSTAMP:20260422T083553Z
LOCATION:
DESCRIPTION:
SUMMARY:Wine Tasting &amp; Flight Night at Legacy Ale Works
ORGANIZER:
URL;VALUE=URI:https://www.jaxfray.com/event/wine-tasting-flight-night-at-legacy-ale-works
TRANSP:OPAQUE
BEGIN:VALARM
ACTION:DISPLAY
TRIGGER;VALUE=DATE-TIME:20260422T043553Z
DESCRIPTION:Reminder for Wine Tasting &amp; Flight Night at Legacy Ale Works
END:VALARM
END:VEVENT
END:VCALENDAR