BEGIN:VCALENDAR
VERSION:2.0
PRODID:-//JAX Fray //NONSGML Events //EN
CALSCALE:GREGORIAN
X-WR-CALNAME:JAX Fray
BEGIN:VEVENT
CREATED:20220623T190021Z
UID:6795
DTEND;VALUE=DATE:20260422T045151Z
DTSTART;VALUE=DATE:20260422T045151Z
DTSTAMP:20260422T085151Z
LOCATION:
DESCRIPTION:
SUMMARY:Comedy Open Mic Night
ORGANIZER:
URL;VALUE=URI:https://www.jaxfray.com/event/comedy-open-mic-night
TRANSP:OPAQUE
BEGIN:VALARM
ACTION:DISPLAY
TRIGGER;VALUE=DATE-TIME:20260422T045151Z
DESCRIPTION:Reminder for Comedy Open Mic Night
END:VALARM
END:VEVENT
END:VCALENDAR