BEGIN:VCALENDAR
VERSION:2.0
PRODID:-//JAX Fray //NONSGML Events //EN
CALSCALE:GREGORIAN
X-WR-CALNAME:JAX Fray
BEGIN:VEVENT
CREATED:20220623T185841Z
UID:6793
DTEND;VALUE=DATE:20260422T044343Z
DTSTART;VALUE=DATE:20260422T044343Z
DTSTAMP:20260422T084343Z
LOCATION:
DESCRIPTION:
SUMMARY:Sad Boy Karaoke Night @ Element Bistro
ORGANIZER:
URL;VALUE=URI:https://www.jaxfray.com/event/sad-boy-karaoke-night-element-bistro
TRANSP:OPAQUE
BEGIN:VALARM
ACTION:DISPLAY
TRIGGER;VALUE=DATE-TIME:20260422T044343Z
DESCRIPTION:Reminder for Sad Boy Karaoke Night @ Element Bistro
END:VALARM
END:VEVENT
END:VCALENDAR