BEGIN:VCALENDAR
VERSION:2.0
PRODID:-//JAX Fray //NONSGML Events //EN
CALSCALE:GREGORIAN
X-WR-CALNAME:JAX Fray
BEGIN:VEVENT
CREATED:20220623T185642Z
UID:6791
DTEND;VALUE=DATE:20260422T043949Z
DTSTART;VALUE=DATE:20260422T043949Z
DTSTAMP:20260422T083949Z
LOCATION:
DESCRIPTION:
SUMMARY:The Wizard of Oz
ORGANIZER:
URL;VALUE=URI:https://www.jaxfray.com/event/the-wizard-of-oz
TRANSP:OPAQUE
BEGIN:VALARM
ACTION:DISPLAY
TRIGGER;VALUE=DATE-TIME:20260422T043949Z
DESCRIPTION:Reminder for The Wizard of Oz
END:VALARM
END:VEVENT
END:VCALENDAR